BEGIN:VCALENDAR
VERSION:2.0
PRODID:-//Feul.art - ECPv6.15.12.2//NONSGML v1.0//EN
CALSCALE:GREGORIAN
METHOD:PUBLISH
X-ORIGINAL-URL:https://www.feul.art
X-WR-CALDESC:Évènements pour Feul.art
REFRESH-INTERVAL;VALUE=DURATION:PT1H
X-Robots-Tag:noindex
X-PUBLISHED-TTL:PT1H
BEGIN:VTIMEZONE
TZID:Europe/Paris
BEGIN:DAYLIGHT
TZOFFSETFROM:+0100
TZOFFSETTO:+0200
TZNAME:CEST
DTSTART:20250330T010000
END:DAYLIGHT
BEGIN:STANDARD
TZOFFSETFROM:+0200
TZOFFSETTO:+0100
TZNAME:CET
DTSTART:20251026T010000
END:STANDARD
BEGIN:DAYLIGHT
TZOFFSETFROM:+0100
TZOFFSETTO:+0200
TZNAME:CEST
DTSTART:20260329T010000
END:DAYLIGHT
BEGIN:STANDARD
TZOFFSETFROM:+0200
TZOFFSETTO:+0100
TZNAME:CET
DTSTART:20261025T010000
END:STANDARD
BEGIN:DAYLIGHT
TZOFFSETFROM:+0100
TZOFFSETTO:+0200
TZNAME:CEST
DTSTART:20270328T010000
END:DAYLIGHT
BEGIN:STANDARD
TZOFFSETFROM:+0200
TZOFFSETTO:+0100
TZNAME:CET
DTSTART:20271031T010000
END:STANDARD
END:VTIMEZONE
BEGIN:VEVENT
DTSTART;TZID=Europe/Paris:20260206T193000
DTEND;TZID=Europe/Paris:20260206T230000
DTSTAMP:20260425T121711
CREATED:20251201T171901Z
LAST-MODIFIED:20251222T084912Z
UID:1079-1770406200-1770418800@www.feul.art
SUMMARY:BEAUMONT EN VERON (37) | Les Temps des Crises (+Jekyll Wood)
DESCRIPTION:
URL:https://www.feul.art/show/daran-beaumont-en-veron-37-les-temps-des-crises/
LOCATION:Le temps des Crises\, 12 rue de la Charmille\, Beaumont-en-Véron\,\, 37420
CATEGORIES:Daran
END:VEVENT
BEGIN:VEVENT
DTSTART;TZID=Europe/Paris:20260206T200000
DTEND;TZID=Europe/Paris:20260206T230000
DTSTAMP:20260425T121711
CREATED:20251210T085054Z
LAST-MODIFIED:20251222T084836Z
UID:1184-1770408000-1770418800@www.feul.art
SUMMARY:BEAUMONT EN VERON (37) | Le Temps des Crises (+ Daran)
DESCRIPTION:
URL:https://www.feul.art/show/beaumont-en-veron-37-le-temps-des-crises-daran/
LOCATION:Le temps des Crises\, 12 rue de la Charmille\, Beaumont-en-Véron\,\, 37420
CATEGORIES:Jekyll Wood
END:VEVENT
END:VCALENDAR