BEGIN:VCALENDAR
VERSION:2.0
PRODID:-//Feul.art - ECPv6.15.12.2//NONSGML v1.0//EN
CALSCALE:GREGORIAN
METHOD:PUBLISH
X-WR-CALNAME:Feul.art
X-ORIGINAL-URL:https://www.feul.art
X-WR-CALDESC:Évènements pour Feul.art
REFRESH-INTERVAL;VALUE=DURATION:PT1H
X-Robots-Tag:noindex
X-PUBLISHED-TTL:PT1H
BEGIN:VTIMEZONE
TZID:Europe/Paris
BEGIN:DAYLIGHT
TZOFFSETFROM:+0100
TZOFFSETTO:+0200
TZNAME:CEST
DTSTART:20250330T010000
END:DAYLIGHT
BEGIN:STANDARD
TZOFFSETFROM:+0200
TZOFFSETTO:+0100
TZNAME:CET
DTSTART:20251026T010000
END:STANDARD
BEGIN:DAYLIGHT
TZOFFSETFROM:+0100
TZOFFSETTO:+0200
TZNAME:CEST
DTSTART:20260329T010000
END:DAYLIGHT
BEGIN:STANDARD
TZOFFSETFROM:+0200
TZOFFSETTO:+0100
TZNAME:CET
DTSTART:20261025T010000
END:STANDARD
BEGIN:DAYLIGHT
TZOFFSETFROM:+0100
TZOFFSETTO:+0200
TZNAME:CEST
DTSTART:20270328T010000
END:DAYLIGHT
BEGIN:STANDARD
TZOFFSETFROM:+0200
TZOFFSETTO:+0100
TZNAME:CET
DTSTART:20271031T010000
END:STANDARD
END:VTIMEZONE
BEGIN:VEVENT
DTSTART;TZID=Europe/Paris:20260213T200000
DTEND;TZID=Europe/Paris:20260213T223000
DTSTAMP:20260423T032052
CREATED:20260213T094255Z
LAST-MODIFIED:20260213T094255Z
UID:1545-1771012800-1771021800@www.feul.art
SUMMARY:ARLON (BE) L'Entrepôt
DESCRIPTION:
URL:https://www.feul.art/show/arlon-be-lentrepot/
CATEGORIES:Daran
END:VEVENT
BEGIN:VEVENT
DTSTART;TZID=Europe/Paris:20260213T200000
DTEND;TZID=Europe/Paris:20260213T230000
DTSTAMP:20260423T032052
CREATED:20260213T094037Z
LAST-MODIFIED:20260213T094037Z
UID:1535-1771012800-1771023600@www.feul.art
SUMMARY:LONS LE SAUNIER (39) Le Darius Club
DESCRIPTION:
URL:https://www.feul.art/show/lons-le-saunier-39-le-darius-club/
CATEGORIES:Daran
END:VEVENT
BEGIN:VEVENT
DTSTART;TZID=Europe/Paris:20260213T200000
DTEND;TZID=Europe/Paris:20260213T233000
DTSTAMP:20260423T032052
CREATED:20251201T172713Z
LAST-MODIFIED:20251201T173347Z
UID:1087-1771012800-1771025400@www.feul.art
SUMMARY:QUIMPERLE (29) - La Loco (+Red Cardell)
DESCRIPTION:
URL:https://www.feul.art/show/quimperle-29-la-loco-red-cardell/
LOCATION:La Loco\, 33 Bd de la Gar\, Quimperlé\, 29300
CATEGORIES:Daran
END:VEVENT
END:VCALENDAR