BEGIN:VCALENDAR
VERSION:2.0
PRODID:-//Feul.art - ECPv6.15.12.2//NONSGML v1.0//EN
CALSCALE:GREGORIAN
METHOD:PUBLISH
X-ORIGINAL-URL:https://www.feul.art
X-WR-CALDESC:Évènements pour Feul.art
REFRESH-INTERVAL;VALUE=DURATION:PT1H
X-Robots-Tag:noindex
X-PUBLISHED-TTL:PT1H
BEGIN:VTIMEZONE
TZID:Europe/Paris
BEGIN:DAYLIGHT
TZOFFSETFROM:+0100
TZOFFSETTO:+0200
TZNAME:CEST
DTSTART:20250330T010000
END:DAYLIGHT
BEGIN:STANDARD
TZOFFSETFROM:+0200
TZOFFSETTO:+0100
TZNAME:CET
DTSTART:20251026T010000
END:STANDARD
BEGIN:DAYLIGHT
TZOFFSETFROM:+0100
TZOFFSETTO:+0200
TZNAME:CEST
DTSTART:20260329T010000
END:DAYLIGHT
BEGIN:STANDARD
TZOFFSETFROM:+0200
TZOFFSETTO:+0100
TZNAME:CET
DTSTART:20261025T010000
END:STANDARD
BEGIN:DAYLIGHT
TZOFFSETFROM:+0100
TZOFFSETTO:+0200
TZNAME:CEST
DTSTART:20270328T010000
END:DAYLIGHT
BEGIN:STANDARD
TZOFFSETFROM:+0200
TZOFFSETTO:+0100
TZNAME:CET
DTSTART:20271031T010000
END:STANDARD
END:VTIMEZONE
BEGIN:VEVENT
DTSTART;TZID=Europe/Paris:20260508T080000
DTEND;TZID=Europe/Paris:20260508T170000
DTSTAMP:20260422T113836
CREATED:20260220T083703Z
LAST-MODIFIED:20260220T083703Z
UID:1623-1778227200-1778259600@www.feul.art
SUMMARY:DIJON (21) | Extra Festival
DESCRIPTION:
URL:https://www.feul.art/show/dijon-21-extra-festival/
CATEGORIES:Bjorn Gottschall
END:VEVENT
BEGIN:VEVENT
DTSTART;TZID=Europe/Paris:20260508T200000
DTEND;TZID=Europe/Paris:20260508T230000
DTSTAMP:20260422T113836
CREATED:20251203T080419Z
LAST-MODIFIED:20251218T141349Z
UID:1143-1778270400-1778281200@www.feul.art
SUMMARY:TOULOUSE (31) | Le Bijou
DESCRIPTION:
URL:https://www.feul.art/show/toulouse-31-le-bijou/
LOCATION:Le Bijou\, 123 Av. de Muret\, Toulouse\, 31000
CATEGORIES:Daran
END:VEVENT
END:VCALENDAR