BEGIN:VCALENDAR
VERSION:2.0
PRODID:-//Feul.art - ECPv6.15.12.2//NONSGML v1.0//EN
CALSCALE:GREGORIAN
METHOD:PUBLISH
X-WR-CALNAME:Feul.art
X-ORIGINAL-URL:https://www.feul.art
X-WR-CALDESC:Évènements pour Feul.art
REFRESH-INTERVAL;VALUE=DURATION:PT1H
X-Robots-Tag:noindex
X-PUBLISHED-TTL:PT1H
BEGIN:VTIMEZONE
TZID:Europe/Paris
BEGIN:DAYLIGHT
TZOFFSETFROM:+0100
TZOFFSETTO:+0200
TZNAME:CEST
DTSTART:20250330T010000
END:DAYLIGHT
BEGIN:STANDARD
TZOFFSETFROM:+0200
TZOFFSETTO:+0100
TZNAME:CET
DTSTART:20251026T010000
END:STANDARD
BEGIN:DAYLIGHT
TZOFFSETFROM:+0100
TZOFFSETTO:+0200
TZNAME:CEST
DTSTART:20260329T010000
END:DAYLIGHT
BEGIN:STANDARD
TZOFFSETFROM:+0200
TZOFFSETTO:+0100
TZNAME:CET
DTSTART:20261025T010000
END:STANDARD
BEGIN:DAYLIGHT
TZOFFSETFROM:+0100
TZOFFSETTO:+0200
TZNAME:CEST
DTSTART:20270328T010000
END:DAYLIGHT
BEGIN:STANDARD
TZOFFSETFROM:+0200
TZOFFSETTO:+0100
TZNAME:CET
DTSTART:20271031T010000
END:STANDARD
END:VTIMEZONE
BEGIN:VEVENT
DTSTART;TZID=Europe/Paris:20260509T080000
DTEND;TZID=Europe/Paris:20260509T170000
DTSTAMP:20260422T140300
CREATED:20260220T083725Z
LAST-MODIFIED:20260220T083725Z
UID:1625-1778313600-1778346000@www.feul.art
SUMMARY:DIJON (21) | Extra Festival
DESCRIPTION:
URL:https://www.feul.art/show/dijon-21-extra-festival-2/
CATEGORIES:Bjorn Gottschall
END:VEVENT
BEGIN:VEVENT
DTSTART;TZID=Europe/Paris:20260509T203000
DTEND;TZID=Europe/Paris:20260509T233000
DTSTAMP:20260422T140300
CREATED:20251203T075903Z
LAST-MODIFIED:20251209T121001Z
UID:1140-1778358600-1778369400@www.feul.art
SUMMARY:AIX EN PROVENCE (13) | Le 6 Mic
DESCRIPTION:
URL:https://www.feul.art/show/aix-en-provence-13-le-6-mic/
LOCATION:Le 6 Mic\, 160 Rue Pascal Duverger\, Aix en Provence\, 13090\, France
CATEGORIES:Daran
END:VEVENT
BEGIN:VEVENT
DTSTART;TZID=Europe/Paris:20260509T220000
DTEND;TZID=Europe/Paris:20260509T233000
DTSTAMP:20260422T140300
CREATED:20260413T064508Z
LAST-MODIFIED:20260413T064524Z
UID:1802-1778364000-1778369400@www.feul.art
SUMMARY:RILLE (37) Festival Music Magic Myth
DESCRIPTION:
URL:https://www.feul.art/show/rille-37-festival-music-magic-myth/
CATEGORIES:Veuves
END:VEVENT
END:VCALENDAR